BEGIN:VCALENDAR
VERSION:2.0
PRODID:-//Markaut//Trade Fair Calendar//EN
CALSCALE:GREGORIAN
METHOD:PUBLISH
BEGIN:VEVENT
UID:power-engineering-for-industry-electro-install-kiev-ukraine@markaut.com
DTSTAMP:20260421T100312Z
DTSTART;VALUE=DATE:20261001
DTEND;VALUE=DATE:20261002
SUMMARY:Power Engineering for Industry/Electro Install
LOCATION:IEC International Exhibition Centre, Kiev, Ukraine
DESCRIPTION:International trade fair for power & electrical engineering products
URL:https://www.markaut.com/pt/fairs/power-engineering-for-industry-electro-install-kiev-ukraine/
END:VEVENT
END:VCALENDAR
