BEGIN:VCALENDAR
VERSION:2.0
PRODID:-//Markaut//Trade Fair Calendar//EN
CALSCALE:GREGORIAN
METHOD:PUBLISH
BEGIN:VEVENT
UID:m-t-expo-sao-paulo-brazil@markaut.com
DTSTAMP:20260421T134707Z
DTSTART;VALUE=DATE:20260421
DTEND;VALUE=DATE:20260422
SUMMARY:M&T EXPO
LOCATION:São Paulo Expo Exhibition & Convention Center, Sao Paulo, Brazil
DESCRIPTION:International Trade Show for Construction and Mining Machinery & Equipment
URL:https://www.markaut.com/pt/fairs/m-t-expo-sao-paulo-brazil/
END:VEVENT
END:VCALENDAR
