BEGIN:VCALENDAR
VERSION:2.0
PRODID:-//Markaut//Trade Fair Calendar//EN
CALSCALE:GREGORIAN
METHOD:PUBLISH
BEGIN:VEVENT
UID:iams-amsterdam-netherlands@markaut.com
DTSTAMP:20260421T184004Z
DTSTART;VALUE=DATE:20260421
DTEND;VALUE=DATE:20260422
SUMMARY:IAMS
LOCATION:Amsterdam RAI, Amsterdam, Netherlands
DESCRIPTION:International Amsterdam Motor Show
URL:https://www.markaut.com/pt/fairs/iams-amsterdam-netherlands/
END:VEVENT
END:VCALENDAR
