BEGIN:VCALENDAR
VERSION:2.0
PRODID:-//Markaut//Trade Fair Calendar//EN
CALSCALE:GREGORIAN
METHOD:PUBLISH
BEGIN:VEVENT
UID:ener-event-elec-expo-tronica-expo-casablanca-morocco@markaut.com
DTSTAMP:20260419T121111Z
DTSTART;VALUE=DATE:20261001
DTEND;VALUE=DATE:20261002
SUMMARY:EneR Event / Elec Expo / Tronica Expo
LOCATION:O.F.E.C. Foire Internationale de Casablanca, Casablanca, Morocco
DESCRIPTION:
URL:https://www.markaut.com/pt/fairs/ener-event-elec-expo-tronica-expo-casablanca-morocco/
END:VEVENT
END:VCALENDAR
