BEGIN:VCALENDAR
VERSION:2.0
PRODID:-//Markaut//Trade Fair Calendar//EN
CALSCALE:GREGORIAN
METHOD:PUBLISH
BEGIN:VEVENT
UID:automec-sao-paulo-brazil@markaut.com
DTSTAMP:20260421T102154Z
DTSTART;VALUE=DATE:20270401
DTEND;VALUE=DATE:20270402
SUMMARY:AUTOMEC
LOCATION:São Paulo Expo Exhibition & Convention Center, Sao Paulo, Brazil
DESCRIPTION:International Auto Parts, Equipment and Services Trade Fair
URL:https://www.markaut.com/pt/fairs/automec-sao-paulo-brazil/
END:VEVENT
END:VCALENDAR
