BEGIN:VCALENDAR
VERSION:2.0
PRODID:-//Markaut//Trade Fair Calendar//EN
CALSCALE:GREGORIAN
METHOD:PUBLISH
BEGIN:VEVENT
UID:satte-new-delhi-india@markaut.com
DTSTAMP:20260424T111702Z
DTSTART;VALUE=DATE:20260424
DTEND;VALUE=DATE:20260425
SUMMARY:SATTE
LOCATION:Yashobhoomi (India International Convention & Expo Centre in Dwarka), New Delhi, India
DESCRIPTION:South Asia Travel & Tourism Exchange
URL:https://www.markaut.com/pl/fairs/satte-new-delhi-india/
END:VEVENT
END:VCALENDAR
