BEGIN:VCALENDAR
VERSION:2.0
PRODID:-//Markaut//Trade Fair Calendar//EN
CALSCALE:GREGORIAN
METHOD:PUBLISH
BEGIN:VEVENT
UID:professional-beauty-india-new-delhi-india@markaut.com
DTSTAMP:20260419T143733Z
DTSTART;VALUE=DATE:20260701
DTEND;VALUE=DATE:20260702
SUMMARY:Professional Beauty India
LOCATION:Pragati Maidan, New Delhi, India
DESCRIPTION:
URL:https://www.markaut.com/pl/fairs/professional-beauty-india-new-delhi-india/
END:VEVENT
END:VCALENDAR
