BEGIN:VCALENDAR
VERSION:2.0
PRODID:-//Markaut//Trade Fair Calendar//EN
CALSCALE:GREGORIAN
METHOD:PUBLISH
BEGIN:VEVENT
UID:otm-mumbai-mumbai-bombay-india@markaut.com
DTSTAMP:20260424T155902Z
DTSTART;VALUE=DATE:20260424
DTEND;VALUE=DATE:20260425
SUMMARY:OTM Mumbai
LOCATION:Jio World Convention Center, Mumbai (Bombay), India
DESCRIPTION:Outbound Travel Mart
URL:https://www.markaut.com/pl/fairs/otm-mumbai-mumbai-bombay-india/
END:VEVENT
END:VCALENDAR
