BEGIN:VCALENDAR
VERSION:2.0
PRODID:-//Markaut//Trade Fair Calendar//EN
CALSCALE:GREGORIAN
METHOD:PUBLISH
BEGIN:VEVENT
UID:halal-expo-istanbul-istanbul-t-rkiye@markaut.com
DTSTAMP:20260424T065527Z
DTSTART;VALUE=DATE:20261101
DTEND;VALUE=DATE:20261102
SUMMARY:Halal Expo Istanbul
LOCATION:IFM (Istanbul Fuar Merkezi), Istanbul, Türkiye
DESCRIPTION:Halal Expo Istanbul
URL:https://www.markaut.com/pl/fairs/halal-expo-istanbul-istanbul-t-rkiye/
END:VEVENT
END:VCALENDAR
