BEGIN:VCALENDAR
VERSION:2.0
PRODID:-//Markaut//Trade Fair Calendar//EN
CALSCALE:GREGORIAN
METHOD:PUBLISH
BEGIN:VEVENT
UID:gourmet-selection-paris-france@markaut.com
DTSTAMP:20260424T144024Z
DTSTART;VALUE=DATE:20270901
DTEND;VALUE=DATE:20270902
SUMMARY:Gourmet Selection
LOCATION:Paris expo Porte de Versailles (VIPARIS), Paris, France
DESCRIPTION:Trade Show for Fine Food
URL:https://www.markaut.com/pl/fairs/gourmet-selection-paris-france/
END:VEVENT
END:VCALENDAR
