BEGIN:VCALENDAR
VERSION:2.0
PRODID:-//Markaut//Trade Fair Calendar//EN
CALSCALE:GREGORIAN
METHOD:PUBLISH
BEGIN:VEVENT
UID:foodex-saudi-riyadh-saudi-arabia@markaut.com
DTSTAMP:20260420T075422Z
DTSTART;VALUE=DATE:20260420
DTEND;VALUE=DATE:20260421
SUMMARY:Foodex Saudi
LOCATION:The Arena Riyadh Venue, Riyadh, Saudi Arabia
DESCRIPTION:International Exhibition for the Food Sector in Saudi Arabia
URL:https://www.markaut.com/pl/fairs/foodex-saudi-riyadh-saudi-arabia/
END:VEVENT
END:VCALENDAR
