BEGIN:VCALENDAR
VERSION:2.0
PRODID:-//Markaut//Trade Fair Calendar//EN
CALSCALE:GREGORIAN
METHOD:PUBLISH
BEGIN:VEVENT
UID:coterie-new-york-united-states-of-america@markaut.com
DTSTAMP:20260424T114105Z
DTSTART;VALUE=DATE:20260424
DTEND;VALUE=DATE:20260425
SUMMARY:Coterie
LOCATION:Jacob K. Javits Convention Center, New York, United States of America
DESCRIPTION:Elevated Contemporary Apparel, Accessories and Footwear
URL:https://www.markaut.com/pl/fairs/coterie-new-york-united-states-of-america/
END:VEVENT
END:VCALENDAR
