BEGIN:VCALENDAR
VERSION:2.0
PRODID:-//Markaut//Trade Fair Calendar//EN
CALSCALE:GREGORIAN
METHOD:PUBLISH
BEGIN:VEVENT
UID:asme-turbo-expo-not-yet-determined-united-states-of-america@markaut.com
DTSTAMP:20260421T220054Z
DTSTART;VALUE=DATE:20260601
DTEND;VALUE=DATE:20260602
SUMMARY:ASME Turbo Expo
LOCATION:noch offen/not yet determined, not yet determined, United States of America
DESCRIPTION:Turbine Technical Conference & Exposition
URL:https://www.markaut.com/pl/fairs/asme-turbo-expo-not-yet-determined-united-states-of-america/
END:VEVENT
END:VCALENDAR
