BEGIN:VCALENDAR
VERSION:2.0
PRODID:-//Markaut//Trade Fair Calendar//EN
CALSCALE:GREGORIAN
METHOD:PUBLISH
BEGIN:VEVENT
UID:salon-de-la-moto-scooter-quad-paris-france@markaut.com
DTSTAMP:20260424T190844Z
DTSTART;VALUE=DATE:20281001
DTEND;VALUE=DATE:20281002
SUMMARY:Salon de la Moto Scooter Quad
LOCATION:Paris expo Porte de Versailles (VIPARIS), Paris, France
DESCRIPTION:Paris Motorcycle Show
URL:https://www.markaut.com/no/fairs/salon-de-la-moto-scooter-quad-paris-france/
END:VEVENT
END:VCALENDAR
