BEGIN:VCALENDAR
VERSION:2.0
PRODID:-//Markaut//Trade Fair Calendar//EN
CALSCALE:GREGORIAN
METHOD:PUBLISH
BEGIN:VEVENT
UID:live-stock-philippines-pasay-city-philippines@markaut.com
DTSTAMP:20260420T001950Z
DTSTART;VALUE=DATE:20280501
DTEND;VALUE=DATE:20280502
SUMMARY:Live Stock Philippines
LOCATION:World Trade Center Metro Manila, Pasay City, Philippines
DESCRIPTION:International Trade Fair for Innovative Equipments and Technology for Livestock Production
URL:https://www.markaut.com/no/fairs/live-stock-philippines-pasay-city-philippines/
END:VEVENT
END:VCALENDAR
