BEGIN:VCALENDAR
VERSION:2.0
PRODID:-//Markaut//Trade Fair Calendar//EN
CALSCALE:GREGORIAN
METHOD:PUBLISH
BEGIN:VEVENT
UID:expo-expo-not-yet-determined-united-states-of-america@markaut.com
DTSTAMP:20260419T133253Z
DTSTART;VALUE=DATE:20261201
DTEND;VALUE=DATE:20261202
SUMMARY:Expo! Expo!
LOCATION:noch offen/not yet determined, not yet determined, United States of America
DESCRIPTION:IAEE\'s Annual Meeting & Exhibition
URL:https://www.markaut.com/no/fairs/expo-expo-not-yet-determined-united-states-of-america/
END:VEVENT
END:VCALENDAR
