BEGIN:VCALENDAR
VERSION:2.0
PRODID:-//Markaut//Trade Fair Calendar//EN
CALSCALE:GREGORIAN
METHOD:PUBLISH
BEGIN:VEVENT
UID:elmia-husvagn-husbil-joenkoeping-sweden@markaut.com
DTSTAMP:20260419T125108Z
DTSTART;VALUE=DATE:20260901
DTEND;VALUE=DATE:20260902
SUMMARY:ELMIA HUSVAGN & HUSBIL
LOCATION:Elmia Exhibition Centre, Joenkoeping, Sweden
DESCRIPTION:Scandinavian Caravan Show
URL:https://www.markaut.com/no/fairs/elmia-husvagn-husbil-joenkoeping-sweden/
END:VEVENT
END:VCALENDAR
