BEGIN:VCALENDAR
VERSION:2.0
PRODID:-//Markaut//Trade Fair Calendar//EN
CALSCALE:GREGORIAN
METHOD:PUBLISH
BEGIN:VEVENT
UID:decorex-joburg-johannesburg-south-africa@markaut.com
DTSTAMP:20260422T222154Z
DTSTART;VALUE=DATE:20260801
DTEND;VALUE=DATE:20260802
SUMMARY:Decorex Joburg
LOCATION:Sandton Convention Centre, Johannesburg, South Africa
DESCRIPTION:Fair for Decoration, Kitchens and Bathrooms
URL:https://www.markaut.com/no/fairs/decorex-joburg-johannesburg-south-africa/
END:VEVENT
END:VCALENDAR
