BEGIN:VCALENDAR
VERSION:2.0
PRODID:-//Markaut//Trade Fair Calendar//EN
CALSCALE:GREGORIAN
METHOD:PUBLISH
BEGIN:VEVENT
UID:cosmoprof-cbe-asean-bangkok-thailand@markaut.com
DTSTAMP:20260419T132353Z
DTSTART;VALUE=DATE:20260419
DTEND;VALUE=DATE:20260420
SUMMARY:COSMOPROF CBE ASEAN
LOCATION:QSNCC Queen Sirikit National Convention Center, Bangkok, Thailand
DESCRIPTION:International Beauty Exhibition
URL:https://www.markaut.com/no/fairs/cosmoprof-cbe-asean-bangkok-thailand/
END:VEVENT
END:VCALENDAR
