BEGIN:VCALENDAR
VERSION:2.0
PRODID:-//Markaut//Trade Fair Calendar//EN
CALSCALE:GREGORIAN
METHOD:PUBLISH
BEGIN:VEVENT
UID:surf-expo-orlando-united-states-of-america@markaut.com
DTSTAMP:20260424T113944Z
DTSTART;VALUE=DATE:20260424
DTEND;VALUE=DATE:20260425
SUMMARY:Surf Expo
LOCATION:Orange County Convention Center, Orlando, United States of America
DESCRIPTION:Watersports and coastal lifestyle tradeshow
URL:https://www.markaut.com/nl/fairs/surf-expo-orlando-united-states-of-america/
END:VEVENT
END:VCALENDAR
