BEGIN:VCALENDAR
VERSION:2.0
PRODID:-//Markaut//Trade Fair Calendar//EN
CALSCALE:GREGORIAN
METHOD:PUBLISH
BEGIN:VEVENT
UID:prowine-singapore-singapore-singapore@markaut.com
DTSTAMP:20260424T144320Z
DTSTART;VALUE=DATE:20260424
DTEND;VALUE=DATE:20260425
SUMMARY:ProWine Singapore
LOCATION:Singapore Expo, Singapore, Singapore
DESCRIPTION:International Trade Fair for Wines & Spirits
URL:https://www.markaut.com/nl/fairs/prowine-singapore-singapore-singapore/
END:VEVENT
END:VCALENDAR
