BEGIN:VCALENDAR
VERSION:2.0
PRODID:-//Markaut//Trade Fair Calendar//EN
CALSCALE:GREGORIAN
METHOD:PUBLISH
BEGIN:VEVENT
UID:magdeburger-angeltage-magdeburg-germany@markaut.com
DTSTAMP:20260424T105241Z
DTSTART;VALUE=DATE:20260424
DTEND;VALUE=DATE:20260425
SUMMARY:MAGDEBURGER ANGELTAGE
LOCATION:Messe Magdeburg, Magdeburg, Germany
DESCRIPTION:International Fishing Exhibition
URL:https://www.markaut.com/nl/fairs/magdeburger-angeltage-magdeburg-germany/
END:VEVENT
END:VCALENDAR
