BEGIN:VCALENDAR
VERSION:2.0
PRODID:-//Markaut//Trade Fair Calendar//EN
CALSCALE:GREGORIAN
METHOD:PUBLISH
BEGIN:VEVENT
UID:iiff-istanbul-t-rkiye@markaut.com
DTSTAMP:20260422T221724Z
DTSTART;VALUE=DATE:20270101
DTEND;VALUE=DATE:20270102
SUMMARY:IIFF
LOCATION:Istanbul Expo Centre & Tüyap Fair Convention and Exhibition Centre, Istanbul, Türkiye
DESCRIPTION:Istanbul Furniture Fair
URL:https://www.markaut.com/nl/fairs/iiff-istanbul-t-rkiye/
END:VEVENT
END:VCALENDAR
