BEGIN:VCALENDAR
VERSION:2.0
PRODID:-//Markaut//Trade Fair Calendar//EN
CALSCALE:GREGORIAN
METHOD:PUBLISH
BEGIN:VEVENT
UID:ifat-eurasia-istanbul-t-rkiye@markaut.com
DTSTAMP:20260419T234111Z
DTSTART;VALUE=DATE:20270501
DTEND;VALUE=DATE:20270502
SUMMARY:IFAT Eurasia
LOCATION:Istanbul Expo Center, Istanbul, Türkiye
DESCRIPTION:Eurasia\'s Leading Trade Fair for Environmental Technologies
URL:https://www.markaut.com/nl/fairs/ifat-eurasia-istanbul-t-rkiye/
END:VEVENT
END:VCALENDAR
