BEGIN:VCALENDAR
VERSION:2.0
PRODID:-//Markaut//Trade Fair Calendar//EN
CALSCALE:GREGORIAN
METHOD:PUBLISH
BEGIN:VEVENT
UID:hostex-formerly-food-drink-africa-johannesburg-south-africa@markaut.com
DTSTAMP:20260420T024600Z
DTSTART;VALUE=DATE:20260420
DTEND;VALUE=DATE:20260421
SUMMARY:HOSTEX (formerly Food & Drink Africa)
LOCATION:Sandton Convention Centre, Johannesburg, South Africa
DESCRIPTION:Africa\'s international food, drink & hospitality trade expo
URL:https://www.markaut.com/nl/fairs/hostex-formerly-food-drink-africa-johannesburg-south-africa/
END:VEVENT
END:VCALENDAR
