BEGIN:VCALENDAR
VERSION:2.0
PRODID:-//Markaut//Trade Fair Calendar//EN
CALSCALE:GREGORIAN
METHOD:PUBLISH
BEGIN:VEVENT
UID:hobby-x-johannesburg-south-africa@markaut.com
DTSTAMP:20260419T222525Z
DTSTART;VALUE=DATE:20270401
DTEND;VALUE=DATE:20270402
SUMMARY:Hobby-X
LOCATION:Kyalami Grand Prix Circuit and International Convention Centre, Johannesburg, South Africa
DESCRIPTION:Hobby-X
URL:https://www.markaut.com/nl/fairs/hobby-x-johannesburg-south-africa/
END:VEVENT
END:VCALENDAR
