BEGIN:VCALENDAR
VERSION:2.0
PRODID:-//Markaut//Trade Fair Calendar//EN
CALSCALE:GREGORIAN
METHOD:PUBLISH
BEGIN:VEVENT
UID:demeter-wine-fair-paris-salon-des-vins-bio-biodynamiques-paris-france@markaut.com
DTSTAMP:20260424T105619Z
DTSTART;VALUE=DATE:20260424
DTEND;VALUE=DATE:20260425
SUMMARY:Demeter Wine Fair Paris - Salon des vins bio & biodynamiques
LOCATION:New Cap Event Center, Paris, France
DESCRIPTION:
URL:https://www.markaut.com/nl/fairs/demeter-wine-fair-paris-salon-des-vins-bio-biodynamiques-paris-france/
END:VEVENT
END:VCALENDAR
