BEGIN:VCALENDAR
VERSION:2.0
PRODID:-//Markaut//Trade Fair Calendar//EN
CALSCALE:GREGORIAN
METHOD:PUBLISH
BEGIN:VEVENT
UID:automechanika-johannesburg-johannesburg-south-africa@markaut.com
DTSTAMP:20260423T085152Z
DTSTART;VALUE=DATE:20260423
DTEND;VALUE=DATE:20260424
SUMMARY:Automechanika Johannesburg
LOCATION:Expo Centre Johannesburg, Johannesburg, South Africa
DESCRIPTION:South Africa\'s leading international trade fair for the automotive service industry targeting trade visitors from the Sub-Saharan Region
URL:https://www.markaut.com/nl/fairs/automechanika-johannesburg-johannesburg-south-africa/
END:VEVENT
END:VCALENDAR
