BEGIN:VCALENDAR
VERSION:2.0
PRODID:-//Markaut//Trade Fair Calendar//EN
CALSCALE:GREGORIAN
METHOD:PUBLISH
BEGIN:VEVENT
UID:seafood-expo-global-barcelona-spain@markaut.com
DTSTAMP:20260420T024416Z
DTSTART;VALUE=DATE:20260420
DTEND;VALUE=DATE:20260421
SUMMARY:Seafood Expo Global
LOCATION:Fira Barcelona - Gran Vía, Barcelona, Spain
DESCRIPTION:The International fair of seafood products
URL:https://www.markaut.com/ko/fairs/seafood-expo-global-barcelona-spain/
END:VEVENT
END:VCALENDAR
