BEGIN:VCALENDAR
VERSION:2.0
PRODID:-//Markaut//Trade Fair Calendar//EN
CALSCALE:GREGORIAN
METHOD:PUBLISH
BEGIN:VEVENT
UID:qazpack-almaty-kazakhstan@markaut.com
DTSTAMP:20260424T084212Z
DTSTART;VALUE=DATE:20260424
DTEND;VALUE=DATE:20260425
SUMMARY:QazPack
LOCATION:Atakent Exhibition Center, Almaty, Kazakhstan
DESCRIPTION:Kazakhstan International Exhibition \'Packaging, Tare, Label\'
URL:https://www.markaut.com/ko/fairs/qazpack-almaty-kazakhstan/
END:VEVENT
END:VCALENDAR
