BEGIN:VCALENDAR
VERSION:2.0
PRODID:-//Markaut//Trade Fair Calendar//EN
CALSCALE:GREGORIAN
METHOD:PUBLISH
BEGIN:VEVENT
UID:power-energy-africa-nairobi-kenya@markaut.com
DTSTAMP:20260421T120754Z
DTSTART;VALUE=DATE:20270501
DTEND;VALUE=DATE:20270502
SUMMARY:Power & Energy Africa
LOCATION:Kenyatta International Conference Centre, Nairobi, Kenya
DESCRIPTION:International Trade Exhibition on Power and Energy Products, Tools, Machinery & Equipment
URL:https://www.markaut.com/ko/fairs/power-energy-africa-nairobi-kenya/
END:VEVENT
END:VCALENDAR
