BEGIN:VCALENDAR
VERSION:2.0
PRODID:-//Markaut//Trade Fair Calendar//EN
CALSCALE:GREGORIAN
METHOD:PUBLISH
BEGIN:VEVENT
UID:mp-motorcycle-exhibition-helsinki-finland@markaut.com
DTSTAMP:20260424T111837Z
DTSTART;VALUE=DATE:20260424
DTEND;VALUE=DATE:20260425
SUMMARY:MP - Motorcycle Exhibition
LOCATION:Messukeskus (Helsinki Exhibition and Convention Centre), Helsinki, Finland
DESCRIPTION:Motorradmesse
URL:https://www.markaut.com/ko/fairs/mp-motorcycle-exhibition-helsinki-finland/
END:VEVENT
END:VCALENDAR
