BEGIN:VCALENDAR
VERSION:2.0
PRODID:-//Markaut//Trade Fair Calendar//EN
CALSCALE:GREGORIAN
METHOD:PUBLISH
BEGIN:VEVENT
UID:jimex-amman-jordan@markaut.com
DTSTAMP:20260420T075147Z
DTSTART;VALUE=DATE:20260420
DTEND;VALUE=DATE:20260421
SUMMARY:JIMEX
LOCATION:JIEC - Jordan International Exhibition Center, Amman, Jordan
DESCRIPTION:Jordanian International Machines & Electro-Mechanical Equipment Exhibition
URL:https://www.markaut.com/ko/fairs/jimex-amman-jordan/
END:VEVENT
END:VCALENDAR
