BEGIN:VCALENDAR
VERSION:2.0
PRODID:-//Markaut//Trade Fair Calendar//EN
CALSCALE:GREGORIAN
METHOD:PUBLISH
BEGIN:VEVENT
UID:iran-food-bev-tec-part-of-iran-agrofood-tehran-iran-islamic-republic@markaut.com
DTSTAMP:20260419T234543Z
DTSTART;VALUE=DATE:20260420
DTEND;VALUE=DATE:20260421
SUMMARY:iran food + bev tec (part of iran agrofood)
LOCATION:Tehran International Permanent Fairground, Tehran, Iran, Islamic Republic
DESCRIPTION:International Exhibition for Food & Packaging Technology
URL:https://www.markaut.com/ko/fairs/iran-food-bev-tec-part-of-iran-agrofood-tehran-iran-islamic-republic/
END:VEVENT
END:VCALENDAR
