BEGIN:VCALENDAR
VERSION:2.0
PRODID:-//Markaut//Trade Fair Calendar//EN
CALSCALE:GREGORIAN
METHOD:PUBLISH
BEGIN:VEVENT
UID:infocomm-not-yet-determined-united-states-of-america@markaut.com
DTSTAMP:20260421T214704Z
DTSTART;VALUE=DATE:20270601
DTEND;VALUE=DATE:20270602
SUMMARY:INFOCOMM
LOCATION:noch offen/not yet determined, not yet determined, United States of America
DESCRIPTION:Information and Computer Technology Exhibition
URL:https://www.markaut.com/ko/fairs/infocomm-not-yet-determined-united-states-of-america/
END:VEVENT
END:VCALENDAR
