BEGIN:VCALENDAR
VERSION:2.0
PRODID:-//Markaut//Trade Fair Calendar//EN
CALSCALE:GREGORIAN
METHOD:PUBLISH
BEGIN:VEVENT
UID:indodefence-jakarta-indonesia@markaut.com
DTSTAMP:20260419T231830Z
DTSTART;VALUE=DATE:20281101
DTEND;VALUE=DATE:20281102
SUMMARY:INDODEFENCE
LOCATION:Jakarta International Expo (Arena Pekan Raya Jakarta (PRJ) Kemayoran), Jakarta, Indonesia
DESCRIPTION:
URL:https://www.markaut.com/ko/fairs/indodefence-jakarta-indonesia/
END:VEVENT
END:VCALENDAR
