BEGIN:VCALENDAR
VERSION:2.0
PRODID:-//Markaut//Trade Fair Calendar//EN
CALSCALE:GREGORIAN
METHOD:PUBLISH
BEGIN:VEVENT
UID:indiawood-new-delhi-india@markaut.com
DTSTAMP:20260424T172554Z
DTSTART;VALUE=DATE:20270201
DTEND;VALUE=DATE:20270202
SUMMARY:INDIAWOOD
LOCATION:India Expo Centre and Mart, Greater Noida, New Delhi, India
DESCRIPTION:International Trade Fair for Furniture Production Technology, Woodworking Machinery, Tools, Fittings, Accessories, Raw Materials and Products
URL:https://www.markaut.com/ko/fairs/indiawood-new-delhi-india/
END:VEVENT
END:VCALENDAR
