BEGIN:VCALENDAR
VERSION:2.0
PRODID:-//Markaut//Trade Fair Calendar//EN
CALSCALE:GREGORIAN
METHOD:PUBLISH
BEGIN:VEVENT
UID:ibie-las-vegas-united-states-of-america@markaut.com
DTSTAMP:20260420T064423Z
DTSTART;VALUE=DATE:20280901
DTEND;VALUE=DATE:20280902
SUMMARY:IBIE
LOCATION:Las Vegas Convention Center, Las Vegas, United States of America
DESCRIPTION:International Baking Industry Exposition
URL:https://www.markaut.com/ko/fairs/ibie-las-vegas-united-states-of-america/
END:VEVENT
END:VCALENDAR
