BEGIN:VCALENDAR
VERSION:2.0
PRODID:-//Markaut//Trade Fair Calendar//EN
CALSCALE:GREGORIAN
METHOD:PUBLISH
BEGIN:VEVENT
UID:garmentech-bangladesh-dhaka-bangladesh@markaut.com
DTSTAMP:20260424T142232Z
DTSTART;VALUE=DATE:20260424
DTEND;VALUE=DATE:20260425
SUMMARY:GARMENTECH Bangladesh
LOCATION:International Convention City Bashundhara, Dhaka, Bangladesh
DESCRIPTION:Garment & Allied Machinery and Accessories Trade Show
URL:https://www.markaut.com/ko/fairs/garmentech-bangladesh-dhaka-bangladesh/
END:VEVENT
END:VCALENDAR
