BEGIN:VCALENDAR
VERSION:2.0
PRODID:-//Markaut//Trade Fair Calendar//EN
CALSCALE:GREGORIAN
METHOD:PUBLISH
BEGIN:VEVENT
UID:drc-mining-week-lubumbashi-congo-democratic-republic@markaut.com
DTSTAMP:20260419T233720Z
DTSTART;VALUE=DATE:20260420
DTEND;VALUE=DATE:20260421
SUMMARY:DRC Mining Week
LOCATION:Pullman Grand Karavia Hotel, Lubumbashi, Congo, Democratic Republic
DESCRIPTION:
URL:https://www.markaut.com/ko/fairs/drc-mining-week-lubumbashi-congo-democratic-republic/
END:VEVENT
END:VCALENDAR
