BEGIN:VCALENDAR
VERSION:2.0
PRODID:-//Markaut//Trade Fair Calendar//EN
CALSCALE:GREGORIAN
METHOD:PUBLISH
BEGIN:VEVENT
UID:djazagro-algiers-algeria@markaut.com
DTSTAMP:20260420T095729Z
DTSTART;VALUE=DATE:20260420
DTEND;VALUE=DATE:20260421
SUMMARY:DJAZAGRO
LOCATION:SAFEX, Algiers, Algeria
DESCRIPTION:The Trade Fair for Agri-Food Production
URL:https://www.markaut.com/ko/fairs/djazagro-algiers-algeria/
END:VEVENT
END:VCALENDAR
