BEGIN:VCALENDAR
VERSION:2.0
PRODID:-//Markaut//Trade Fair Calendar//EN
CALSCALE:GREGORIAN
METHOD:PUBLISH
BEGIN:VEVENT
UID:compounding-world-expo-not-yet-determined-not-yet-determined@markaut.com
DTSTAMP:20260420T075317Z
DTSTART;VALUE=DATE:20260901
DTEND;VALUE=DATE:20260902
SUMMARY:Compounding World Expo
LOCATION:noch offen/not yet determined, not yet determined, not yet determined
DESCRIPTION:Internationale Fachmesse für die Kunststoffindustrie mit Plastics Recycling World Expo, Polymer Testing World Expo, Plastics Extrusion World Expo
URL:https://www.markaut.com/ko/fairs/compounding-world-expo-not-yet-determined-not-yet-determined/
END:VEVENT
END:VCALENDAR
