BEGIN:VCALENDAR
VERSION:2.0
PRODID:-//Markaut//Trade Fair Calendar//EN
CALSCALE:GREGORIAN
METHOD:PUBLISH
BEGIN:VEVENT
UID:biocultura-barcelona-barcelona-spain@markaut.com
DTSTAMP:20260419T193055Z
DTSTART;VALUE=DATE:20270501
DTEND;VALUE=DATE:20270502
SUMMARY:BioCultura Barcelona
LOCATION:La Farga l\'Hospitalet, Barcelona, Spain
DESCRIPTION:Organic Products Fair and Responsible Consumption
URL:https://www.markaut.com/ko/fairs/biocultura-barcelona-barcelona-spain/
END:VEVENT
END:VCALENDAR
