BEGIN:VCALENDAR
VERSION:2.0
PRODID:-//Markaut//Trade Fair Calendar//EN
CALSCALE:GREGORIAN
METHOD:PUBLISH
BEGIN:VEVENT
UID:aeta-dallas-united-states-of-america@markaut.com
DTSTAMP:20260420T032020Z
DTSTART;VALUE=DATE:20260420
DTEND;VALUE=DATE:20260421
SUMMARY:AETA
LOCATION:Dallas Market Center, Dallas, United States of America
DESCRIPTION:American Equestrian Trade Association\'s International Trade Show
URL:https://www.markaut.com/ko/fairs/aeta-dallas-united-states-of-america/
END:VEVENT
END:VCALENDAR
