BEGIN:VCALENDAR
VERSION:2.0
PRODID:-//Markaut//Trade Fair Calendar//EN
CALSCALE:GREGORIAN
METHOD:PUBLISH
BEGIN:VEVENT
UID:wis-world-it-show-korea-seoul-korea-republic@markaut.com
DTSTAMP:20260421T215912Z
DTSTART;VALUE=DATE:20260422
DTEND;VALUE=DATE:20260423
SUMMARY:WIS-World IT Show Korea
LOCATION:COEX Convention & Exhibition Center, Seoul, Korea, Republic
DESCRIPTION:Telecommunication, Computer and Wireless Technologies Exhibition
URL:https://www.markaut.com/ja/fairs/wis-world-it-show-korea-seoul-korea-republic/
END:VEVENT
END:VCALENDAR
