BEGIN:VCALENDAR
VERSION:2.0
PRODID:-//Markaut//Trade Fair Calendar//EN
CALSCALE:GREGORIAN
METHOD:PUBLISH
BEGIN:VEVENT
UID:tems-africa-ict-expo-tele-communications-electronics-mobiles-systems-nairobi-kenya@markaut.com
DTSTAMP:20260423T150452Z
DTSTART;VALUE=DATE:20270401
DTEND;VALUE=DATE:20270402
SUMMARY:TEMS Africa ICT Expo - Tele-Communications, Electronics, Mobiles & Systems
LOCATION:Sarit Expo Centre, Nairobi, Kenya
DESCRIPTION:ICT & DIGITISATION AFRICA GROWTH AND TRANSFORMATION
URL:https://www.markaut.com/ja/fairs/tems-africa-ict-expo-tele-communications-electronics-mobiles-systems-nairobi-kenya/
END:VEVENT
END:VCALENDAR
