BEGIN:VCALENDAR
VERSION:2.0
PRODID:-//Markaut//Trade Fair Calendar//EN
CALSCALE:GREGORIAN
METHOD:PUBLISH
BEGIN:VEVENT
UID:tecnova-piscinas-madrid-spain@markaut.com
DTSTAMP:20260424T083923Z
DTSTART;VALUE=DATE:20270201
DTEND;VALUE=DATE:20270202
SUMMARY:TECNOVA PISCINAS
LOCATION:IFEMA Feria de Madrid, Madrid, Spain
DESCRIPTION:Technology and Innovation Trade Show for Aquatic Facilities
URL:https://www.markaut.com/ja/fairs/tecnova-piscinas-madrid-spain/
END:VEVENT
END:VCALENDAR
