BEGIN:VCALENDAR
VERSION:2.0
PRODID:-//Markaut//Trade Fair Calendar//EN
CALSCALE:GREGORIAN
METHOD:PUBLISH
BEGIN:VEVENT
UID:sviaz-moscow-russia@markaut.com
DTSTAMP:20260422T010433Z
DTSTART;VALUE=DATE:20260422
DTEND;VALUE=DATE:20260423
SUMMARY:SVIAZ
LOCATION:Timiryazev Center, Moscow, Russia
DESCRIPTION:International Exhibition for Information and Communication Technology
URL:https://www.markaut.com/ja/fairs/sviaz-moscow-russia/
END:VEVENT
END:VCALENDAR
