BEGIN:VCALENDAR
VERSION:2.0
PRODID:-//Markaut//Trade Fair Calendar//EN
CALSCALE:GREGORIAN
METHOD:PUBLISH
BEGIN:VEVENT
UID:specialty-coffee-expo-not-yet-determined-united-states-of-america@markaut.com
DTSTAMP:20260424T110637Z
DTSTART;VALUE=DATE:20270401
DTEND;VALUE=DATE:20270402
SUMMARY:Specialty Coffee Expo
LOCATION:noch offen/not yet determined, not yet determined, United States of America
DESCRIPTION:
URL:https://www.markaut.com/ja/fairs/specialty-coffee-expo-not-yet-determined-united-states-of-america/
END:VEVENT
END:VCALENDAR
