BEGIN:VCALENDAR
VERSION:2.0
PRODID:-//Markaut//Trade Fair Calendar//EN
CALSCALE:GREGORIAN
METHOD:PUBLISH
BEGIN:VEVENT
UID:ite-hong-kong-hong-kong-hong-kong-china-sar@markaut.com
DTSTAMP:20260424T023258Z
DTSTART;VALUE=DATE:20260424
DTEND;VALUE=DATE:20260425
SUMMARY:ITE Hong Kong
LOCATION:Hong Kong Convention and Exhibition Centre, Hong Kong, Hong Kong, China SAR
DESCRIPTION:International Travel Expo Hongkong
URL:https://www.markaut.com/ja/fairs/ite-hong-kong-hong-kong-hong-kong-china-sar/
END:VEVENT
END:VCALENDAR
